0.0986677251825204
-0.0359121150491952
-0.0359121150491952
-0.0986677251825204
649107.788219436
4731272.07550085
