0.0986677251825204
-0.0359121150491952
-0.0359121150491952
-0.0986677251825204
635617.459001312
4762674.18930199
