0.0986677251825204
-0.0359121150491952
-0.0359121150491952
-0.0986677251825204
636083.487057413
4762515.85750359
