0.0986677251825204
-0.0359121150491952
-0.0359121150491952
-0.0986677251825204
633802.029110734
4761881.38385121
