0.0986677251825204
-0.0359121150491952
-0.0359121150491952
-0.0986677251825204
634835.688176003
4761534.53303191
