0.0986677251825204
-0.0359121150491952
-0.0359121150491952
-0.0986677251825204
635874.37647752
4761176.63324395
