0.0986677251825204
-0.0359121150491952
-0.0359121150491952
-0.0986677251825204
636392.994545044
4760999.37180885
