0.0804346665274927
-0.0674926990170866
-0.0674926990170866
-0.0804346665274927
634156.356127034
4760769.43148089
