0.0804346665274927
-0.0674926990170866
-0.0674926990170866
-0.0804346665274927
635985.596677765
4759050.45684293
