0.0475811588194241
-0.0221874587413867
-0.0221874587413867
-0.0475811588194241
579314.909050823
4726382.65204892
