0.0430054823251721
-0.0301127629084299
-0.0301127629084299
-0.0430054823251721
579652.251254628
4725664.43032154
