0.0430054823251721
-0.0301127629084299
-0.0301127629084299
-0.0430054823251721
579824.071252017
4725542.57480234
