0.0430054823251721
-0.0301127629084299
-0.0301127629084299
-0.0430054823251721
580168.166874671
4725296.17444526
