0.0430054823251721
-0.0301127629084299
-0.0301127629084299
-0.0430054823251721
580684.101833794
4724927.80989162
