0.0430054823251721
-0.0301127629084299
-0.0301127629084299
-0.0430054823251721
578271.936664031
4726043.38573185
