0.0430054823251721
-0.0301127629084299
-0.0301127629084299
-0.0430054823251721
579779.56728401
4724986.64464337
