0.0430054823251721
-0.0301127629084299
-0.0301127629084299
-0.0430054823251721
579122.61456129
4724770.90978823
