0.0430054823251721
-0.0301127629084299
-0.0301127629084299
-0.0430054823251721
579633.577198571
4724396.62387986
