0.0475811588194241
0.0221874587413867
0.0221874587413867
-0.0475811588194241
578521.107006719
4724371.89391228
