0.0475811588194241
0.0221874587413867
0.0221874587413867
-0.0475811588194241
578622.250852676
4724150.52107932
