0.103404814066282
0.0182330586550277
0.0182330586550277
-0.103404814066282
610605.71624283
4760098.51101045
