0.103404814066282
0.0182330586550277
0.0182330586550277
-0.103404814066282
611870.772083109
4760029.82195523
