0.103404814066282
0.0182330586550277
0.0182330586550277
-0.103404814066282
611193.179347019
4766480.67666866
