0.103404814066282
0.0182330586550277
0.0182330586550277
-0.103404814066282
611331.723997361
4765960.41796278
