0.103404814066282
0.0182330586550277
0.0182330586550277
-0.103404814066282
611471.746435233
4765439.03379103
