0.103404814066282
0.0182330586550277
0.0182330586550277
-0.103404814066282
612173.14523879
4762831.16692641
