0.103404814066282
0.0182330586550277
0.0182330586550277
-0.103404814066282
613527.281347573
4761089.38743041
