0.103404814066282
0.0182330586550277
0.0182330586550277
-0.103404814066282
612895.433248218
4765906.56475294
