0.103404814066282
0.0182330586550277
0.0182330586550277
-0.103404814066282
613889.656158855
4762194.93161172
