0.103404814066282
0.0182330586550277
0.0182330586550277
-0.103404814066282
614027.915916276
4761667.47562923
