0.103404814066282
0.0182330586550277
0.0182330586550277
-0.103404814066282
613968.961281852
4767321.05885755
