0.103404814066282
0.0182330586550277
0.0182330586550277
-0.103404814066282
614152.189983684
4766270.86346465
