0.103404814066282
0.0182330586550277
0.0182330586550277
-0.103404814066282
614244.543278366
4765745.20253527
