0.103404814066282
0.0182330586550277
0.0182330586550277
-0.103404814066282
614614.391306177
4763642.21101416
