0.0804346665274927
-0.0674926990170866
-0.0674926990170866
-0.0804346665274927
613310.166436099
4725055.38057098
