0.0804346665274927
-0.0674926990170866
-0.0674926990170866
-0.0804346665274927
617812.129915156
4721380.53244572
