0.0804346665274927
-0.0674926990170866
-0.0674926990170866
-0.0804346665274927
616429.455958311
4721031.26009516
