0.0804346665274927
-0.0674926990170866
-0.0674926990170866
-0.0804346665274927
611515.01083971
4723821.72344259
