0.0804346665274927
-0.0674926990170866
-0.0674926990170866
-0.0804346665274927
612758.90793971
4722788.84144259
