0.0804346665274927
-0.0674926990170866
-0.0674926990170866
-0.0804346665274927
614002.766213807
4721756.40322469
