0.0804346665274927
-0.0674926990170866
-0.0674926990170866
-0.0804346665274927
615246.742257043
4720723.04269624
