0.0804346665274927
-0.0674926990170866
-0.0674926990170866
-0.0804346665274927
618978.094183026
4717627.42273625
