0.0804346665274927
-0.0674926990170866
-0.0674926990170866
-0.0804346665274927
615102.32654536
4720402.41898621
