0.0804346665274927
-0.0674926990170866
-0.0674926990170866
-0.0804346665274927
616610.147726262
4718996.16620781
