0.0804346665274927
-0.0674926990170866
-0.0674926990170866
-0.0804346665274927
613143.24835401
4721111.29577257
