0.0804346665274927
-0.0674926990170866
-0.0674926990170866
-0.0804346665274927
613562.594489253
4720699.18722781
