0.0804346665274927
-0.0674926990170866
-0.0674926990170866
-0.0804346665274927
615240.25748253
4719047.57361042
