0.0804346665274927
-0.0674926990170866
-0.0674926990170866
-0.0804346665274927
611584.516280188
4721426.69613773
