0.0804346665274927
-0.0674926990170866
-0.0674926990170866
-0.0804346665274927
608520.24134679
4722663.31802935
