0.0804346665274927
-0.0674926990170866
-0.0674926990170866
-0.0804346665274927
609234.668123229
4721975.79128414
